BEGIN:VCALENDAR
VERSION:2.0
PRODID:-//WALT - ECPv6.15.20//NONSGML v1.0//EN
CALSCALE:GREGORIAN
METHOD:PUBLISH
X-WR-CALNAME:WALT
X-ORIGINAL-URL:https://waltpbm.org
X-WR-CALDESC:Events for WALT
REFRESH-INTERVAL;VALUE=DURATION:PT1H
X-Robots-Tag:noindex
X-PUBLISHED-TTL:PT1H
BEGIN:VTIMEZONE
TZID:Africa/Johannesburg
BEGIN:STANDARD
TZOFFSETFROM:+0200
TZOFFSETTO:+0200
TZNAME:SAST
DTSTART:20250101T000000
END:STANDARD
END:VTIMEZONE
BEGIN:VEVENT
DTSTART;VALUE=DATE:20261015
DTEND;VALUE=DATE:20261019
DTSTAMP:20260423T121724
CREATED:20251008T113051Z
LAST-MODIFIED:20251008T113051Z
UID:20784-1792065600-1792324799@waltpbm.org
SUMMARY:The Power of Lights in Las Vegas
DESCRIPTION:
URL:https://waltpbm.org/event/the-power-of-lights-in-las-vegas/
LOCATION:Sahara Hotel\, 2535 S Las Vegas Blvd\, Las Vegas\, NV\, NV 89109\, United States
ATTACH;FMTTYPE=image/png:https://waltpbm.org/wp-content/uploads/2025/10/WALT-2025-Invite-Las-Vegas-Reduced.png
END:VEVENT
END:VCALENDAR